Workbook

Sheet Sheet1
A1: 附件
A2: 2026年中山市中小企业数字化转型城市试点数字化项目（第九批）资助计划
A3: 序号 | B3: 企业名称 | C3: 项目名称 | E3: 评估等级 | F3: 试点类型 | G3: 合计奖补投入金额 （万元，不含税） | H3: 应补总金额 （万元） | I3: 已获得的预奖补金额 （万元） | K3: 监管账户已获得奖补金额（万元） | M3: 本次应奖补金额 （万元）
I4: 中央 | J4: 省级 | K4: 中央 | L4: 省级 | M4: 中央 | N4: 省级 | O4: 市级 | P4: 合计
A5: 合计 | G5: =SUM(G6:G290) -> 1991.43 | H5: =SUM(H6:H290) -> 985.46 | I5: =SUM(I6:I420) -> 50.368 | J5: =SUM(J6:J420) -> 36.312 | K5: =SUM(K6:K420) -> 0 | L5: =SUM(L6:L420) -> 67.54 | M5: =SUM(M6:M420) -> 616.712 | N5: =SUM(N6:N420) -> 153.884 | O5: =SUM(O6:O420) -> 60.644 | P5: =SUM(P6:P420) -> 831.24
A6: 1 | B6: 广东晶得光电有限公司 | C6: 晶得光电ERP/MES/CRM系统应用项目 | D6: 2411031110090 | E6: 二级 | F6: 国家/省 | G6: =VLOOKUP(D6,[1]Sheet1!$C:$P,14,FALSE) -> 52.35 | H6: 26.17 | I6: 6 | J6: 6 | M6: 14.936 | N6: -0.766 | P6: =H6-SUM(I6:L6) -> 14.17
A7: 2 | B7: 中山市众旺德新能源科技有限公司 | C7: 众旺德小型锂电池数智化升级改造项目 | D7: 2501021110300 | E7: 二级 | F7: 国家/省 | G7: =VLOOKUP(D7,[1]Sheet1!$C:$P,14,FALSE) -> 18.8 | H7: 9.4 | I7: 1.88 | J7: 1.88 | K7: 0 | L7: 5.64 | M7: 5.64 | N7: -5.64 | P7: =H7-SUM(I7:L7) -> 0
A8: 3 | B8: 广东道盟智能科技有限公司 | C8: 道盟智能ERP、PLM系统改造项目 | D8: 2503101000352 | E8: 二级 | F8: 国家/省 | G8: =VLOOKUP(D8,[1]Sheet1!$C:$P,14,FALSE) -> 31.79 | H8: 15.89 | I8: 2.83 | J8: 2.83 | K8: 0 | L8: 8.49 | M8: 9.882 | N8: -8.142 | P8: =H8-SUM(I8:L8) -> 1.74
A9: 4 | B9: 广东中晟电磁科技股份有限公司 | C9: 广东中晟电磁科技股份有限公司数字化转型项目 | D9: 2503011110381 | E9: 二级 | F9: 国家/省 | G9: =VLOOKUP(D9,[1]Sheet1!$C:$P,14,FALSE) -> 55.61 | H9: 27.8 | I9: 5.215 | J9: 5.215 | K9: 0 | L9: 15.64 | M9: 17.025 | N9: -15.295 | P9: =H9-SUM(I9:L9) -> 1.73
A10: 5 | B10: 中山畅想工贸有限公司 | C10: 畅想数字化工厂项目 | D10: 2503191110389 | E10: 二级 | F10: 国家/省 | G10: =VLOOKUP(D10,[1]Sheet1!$C:$P,14,FALSE) -> 32.35 | H10: 16.17 | I10: 3.235 | J10: 3.235 | M10: 9.701 | N10: -0.001 | P10: =H10-SUM(I10:L10) -> 9.7
A11: 6 | B11: 中山市美苏电器有限公司 | C11: 美苏ERP数字化转型服务项目 | D11: 2508101010562 | E11: 二级 | F11: 国家/省 | G11: =VLOOKUP(D11,[1]Sheet1!$C:$P,14,FALSE) -> 20 | H11: 10 | I11: 0.8 | J11: 3.2 | K11: 0 | L11: 6 | M11: 7.2 | N11: -7.2 | P11: =H11-SUM(I11:L11) -> 0
A12: 7 | B12: 中山市华佑磁芯材料有限公司 | C12: 中山市华佑磁芯材料有限公司数字化转型服务项目 | D12: 2508021110557 | E12: 二级 | F12: 国家/省 | G12: =VLOOKUP(D12,[1]Sheet1!$C:$P,14,FALSE) -> 60.37 | H12: 30 | I12: 2.4 | J12: 9.6 | M12: 21.6 | N12: -3.6 | P12: =H12-SUM(I12:L12) -> 18
A13: 8 | B13: 广东德琪电器实业有限公司 | C13: ERP升级项目 | D13: 2508161010588 | E13: 二级 | F13: 国家/省 | G13: =VLOOKUP(D13,[1]Sheet1!$C:$P,14,FALSE) -> 36.45 | H13: 18.22 | I13: 1.088 | J13: 4.352 | M13: 13.488 | N13: -0.708 | P13: =H13-SUM(I13:L13) -> 12.78
A14: 9 | B14: 广东汇莱德热能有限公司 | C14: 汇莱德热能数字化转型项目 | D14: 2506101100499 | E14: 二级 | F14: 国家/省 | G14: =VLOOKUP(D14,[1]Sheet1!$C:$P,14,FALSE) -> 2.67 | H14: 1.33 | K14: 0 | L14: 1.77 | M14: 1.064 | N14: -1.504 | P14: =H14-SUM(I14:L14) -> -0.44
A15: 10 | B15: 中山清匠智能制造有限公司 | C15: 中山清匠智能制造有限公司数字化系统软件改造项目 | D15: 2503061110398 | E15: 二级 | F15: 国家/省 | G15: =VLOOKUP(D15,[1]Sheet1!$C:$P,14,FALSE) -> 54.71 | H15: 27.35 | K15: 0 | L15: 30 | M15: 21.88 | N15: -24.53 | P15: =H15-SUM(I15:L15) -> -2.65
A16: 11 | B16: 中山市亿科塑胶五金制品有限公司 | C16: ERP系统应用项目 | D16: 2603151110842 | E16: 二级 | F16: 国家/省 | G16: =VLOOKUP(D16,[1]Sheet1!$C:$P,14,FALSE) -> 23.24 | H16: 11.62 | I16: 4.64 | M16: 4.656 | N16: 2.324 | P16: =H16-SUM(I16:L16) -> 6.98
A17: 12 | B17: 中山市威玛金属制品有限公司 | C17: 中山市威玛金属制品有限公司数字化转型提升服务项目 | D17: 2512161100757 | E17: 二级 | F17: 国家/省 | G17: =VLOOKUP(D17,[1]Sheet1!$C:$P,14,FALSE) -> 15.4 | H17: 7.7 | I17: 3.08 | M17: 3.08 | N17: 1.54 | P17: =H17-SUM(I17:L17) -> 4.62
A18: 13 | B18: 中山市立科硅胶制品有限公司 | C18: 立科硅胶数字化管理升级项目 | D18: 2603011110817 | E18: 二级 | F18: 国家/省 | G18: =VLOOKUP(D18,[1]Sheet1!$C:$P,14,FALSE) -> 39.47 | H18: 19.73 | I18: 8.42 | M18: 7.364 | N18: 3.946 | P18: =H18-SUM(I18:L18) -> 11.31
A19: 14 | B19: 广东中消电子科技有限公司 | C19: 中消电子数字化改造项目 | D19: 2504132010413 | E19: 二级 | F19: 国家/省 | G19: =VLOOKUP(D19,[1]Sheet1!$C:$P,14,FALSE) -> 27.73 | H19: 13.86 | I19: 5.54 | M19: 5.548 | N19: 2.772 | P19: =H19-SUM(I19:L19) -> 8.32
A20: 15 | B20: 中山市泰拓数码科技有限公司 | C20: 泰拓数码科技公司数字化转型项目 | D20: 2607059911036 | E20: 二级 | F20: 国家/省 | G20: =VLOOKUP(D20,[1]Sheet1!$C:$P,14,FALSE) -> 26.23 | H20: 13.11 | I20: 5.24 | M20: 5.248 | N20: 2.622 | P20: =H20-SUM(I20:L20) -> 7.87
A21: 16 | B21: 中山杭力机械有限公司 | C21: 中山杭力机械有限公司数字化改造项目 | D21: 2512229910744 | E21: 二级 | F21: 国家/省 | G21: =VLOOKUP(D21,[1]Sheet1!$C:$P,14,FALSE) -> 61.99 | H21: 30 | M21: 24 | N21: 6 | P21: =H21-SUM(I21:L21) -> 30
A22: 17 | B22: 广东宇之源太阳能科技有限公司 | C22: 宇之源订货系统数字化转型服务项目 | D22: 2605142000911 | E22: 二级 | F22: 国家/省 | G22: =VLOOKUP(D22,[1]Sheet1!$C:$P,14,FALSE) -> 22.01 | H22: 11 | M22: 8.8 | N22: 2.2 | P22: =H22-SUM(I22:L22) -> 11
A23: 18 | B23: 中山市荣玖智能制造有限公司 | C23: 中山市荣玖智能制造有限公司数字化转型服务项目 | D23: 2510011010667 | E23: 二级 | F23: 国家/省 | G23: =VLOOKUP(D23,[1]Sheet1!$C:$P,14,FALSE) -> 42.36 | H23: 21.18 | M23: 16.944 | N23: 4.236 | P23: =H23-SUM(I23:L23) -> 21.18
A24: 19 | B24: 中山华帝电子科技有限公司 | C24: 中山华帝电子数字化改造项目 | D24: 2503141110341 | E24: 二级 | F24: 国家/省 | G24: =VLOOKUP(D24,[1]Sheet1!$C:$P,14,FALSE) -> 4.42 | H24: 2.21 | M24: 1.768 | N24: 0.442 | P24: =H24-SUM(I24:L24) -> 2.21
A25: 20 | B25: 广东伊莱特电子科技有限公司 | C25: 广东伊莱特电子科技有限公司K-RPA机器人与AIGC智能体数字化转型升级项目 | D25: 2605101110899 | E25: 三级 | F25: 国家/省 | G25: =VLOOKUP(D25,[1]Sheet1!$C:$P,14,FALSE) -> 18.58 | H25: 9.29 | M25: 7.432 | N25: 1.858 | P25: =H25-SUM(I25:L25) -> 9.29
A26: 21 | B26: 鸿利达模具科技（中山）有限公司 | C26: 鸿利达模具科技（中山）有限公司信息化技改项目 | D26: 2604021110886 | E26: 三级 | F26: 国家/省 | G26: =VLOOKUP(D26,[1]Sheet1!$C:$P,14,FALSE) -> 86.63 | H26: 43.31 | M26: 34.648 | N26: 8.662 | P26: =H26-SUM(I26:L26) -> 43.31
A27: 22 | B27: 广东华实照明科技有限公司 | C27: 广东华实照明科创空间数字化改造项目 | D27: 2512012010733 | E27: 二级 | F27: 国家/省 | G27: =VLOOKUP(D27,[1]Sheet1!$C:$P,14,FALSE) -> 8.08 | H27: 4.04 | M27: 3.232 | N27: 0.808 | P27: =H27-SUM(I27:L27) -> 4.04
A28: 23 | B28: 广东韩派电器有限公司 | C28: 韩派电器数字化转型项目 | D28: 2507171010507 | E28: 二级 | F28: 国家/省 | G28: =VLOOKUP(D28,[1]Sheet1!$C:$P,14,FALSE) -> 10.07 | H28: 5.03 | M28: 4.024 | N28: 1.006 | P28: =H28-SUM(I28:L28) -> 5.03
A29: 24 | B29: 中山市福维环境科技有限公司 | C29: 福维数字化项目改造 | D29: 2608011111180 | E29: 二级 | F29: 省 | G29: =VLOOKUP(D29,[1]Sheet1!$C:$P,14,FALSE) -> 28.56 | H29: 14.28 | N29: 8.568 | O29: 5.712 | P29: =H29-SUM(I29:L29) -> 14.28
A30: 25 | B30: 中山市福维环境科技有限公司 | C30: 数字化管理系统建设项目 | D30: 2606011110970 | E30: 二级 | F30: 国家/省 | G30: =VLOOKUP(D30,[1]Sheet1!$C:$P,14,FALSE) -> 4.89 | H30: 2.44 | M30: 1.952 | N30: 0.488 | P30: =H30-SUM(I30:L30) -> 2.44
A31: 26 | B31: 中山市希乐光电科技有限公司 | C31: 希乐数字化转型项目 | D31: 2511162010692 | E31: 二级 | F31: 国家/省 | G31: =VLOOKUP(D31,[1]Sheet1!$C:$P,14,FALSE) -> 1.99 | H31: 0.99 | M31: 0.792 | N31: 0.198 | P31: =H31-SUM(I31:L31) -> 0.99
A32: 27 | B32: 中山市立元精密模具工业有限公司 | C32: 立元精密模具公司数字化项目（科创空间） | D32: 2608129911169 | E32: 二级 | F32: 国家/省 | G32: =VLOOKUP(D32,[1]Sheet1!$C:$P,14,FALSE) -> 7.34 | H32: 3.67 | M32: 2.936 | N32: 0.734 | P32: =H32-SUM(I32:L32) -> 3.67
A33: 28 | B33: 中山市立元精密模具工业有限公司 | C33: 立元精密模具数字化项目（孚盟CRM） | D33: 2604121110879 | E33: 二级 | F33: 省 | G33: =VLOOKUP(D33,[1]Sheet1!$C:$P,14,FALSE) -> 26.37 | H33: 13.18 | N33: 7.908 | O33: 5.272 | P33: =H33-SUM(I33:L33) -> 13.18
A34: 29 | B34: 中山市广卫消防设备科技有限公司 | C34: 广卫消防科技数字化转型项目（三品图文档管理软件） | D34: 2608012011179 | E34: 二级 | F34: 省 | G34: =VLOOKUP(D34,[1]Sheet1!$C:$P,14,FALSE) -> 6.19 | H34: 3.09 | N34: 1.854 | O34: 1.236 | P34: =H34-SUM(I34:L34) -> 3.09
A35: 30 | B35: 中山市广卫消防设备科技有限公司 | C35: 广卫消防科技数字化转型项目 | D35: 2604012010871 | E35: 二级 | F35: 国家/省 | G35: =VLOOKUP(D35,[1]Sheet1!$C:$P,14,FALSE) -> 11.3 | H35: 5.65 | M35: 4.52 | N35: 1.13 | P35: =H35-SUM(I35:L35) -> 5.65
A36: 31 | B36: 辰威智能装备（广东）有限公司 | C36: 辰威智能装备公司研发数字化项目 | D36: 2607161111086 | E36: 二级 | F36: 国家/省 | G36: =VLOOKUP(D36,[1]Sheet1!$C:$P,14,FALSE) -> 7.54 | H36: 3.77 | M36: 3.016 | N36: 0.754 | P36: =H36-SUM(I36:L36) -> 3.77
A37: 32 | B37: 宏义新材料科技（广东）有限公司 | C37: 宏义新材料ERP系统升级改造项目 | D37: 2410171110013 | E37: 二级 | F37: 国家/省 | G37: =VLOOKUP(D37,[1]Sheet1!$C:$P,14,FALSE) -> 62.98 | H37: 30 | M37: 24 | N37: 6 | P37: =H37-SUM(I37:L37) -> 30
A38: 33 | B38: 中山市卡邦碳纤维材料制品有限公司 | C38: 中山卡邦数字化改造项目 | D38: 2601199910803 | E38: 二级 | F38: 国家/省 | G38: =VLOOKUP(D38,[1]Sheet1!$C:$P,14,FALSE) -> 61.64 | H38: 30 | M38: 24 | N38: 6 | P38: =H38-SUM(I38:L38) -> 30
A39: 34 | B39: 广东思锐光学股份有限公司 | C39: 思锐数字化改造二期项目 | D39: 2507072010515 | E39: 三级 | F39: 国家/省 | G39: =VLOOKUP(D39,[1]Sheet1!$C:$P,14,FALSE) -> 98.23 | H39: 49.11 | M39: 39.288 | N39: 9.822 | P39: =H39-SUM(I39:L39) -> 49.11
A40: 35 | B40: 广东光沐半导体科技有限公司 | C40: 广东光沐半导体科技有限公司企业数字化转型改造项目 | D40: 2512062110762 | E40: 二级 | F40: 国家/省 | G40: =VLOOKUP(D40,[1]Sheet1!$C:$P,14,FALSE) -> 67.92 | H40: 30 | M40: 24 | N40: 6 | P40: =H40-SUM(I40:L40) -> 30
A41: 36 | B41: 中山深宝电器制造有限公司 | C41: 深宝电器数字化转型项目 | D41: 2505051010463 | E41: 二级 | F41: 国家/省 | G41: =VLOOKUP(D41,[1]Sheet1!$C:$P,14,FALSE) -> 14.33 | H41: 7.16 | M41: 5.728 | N41: 1.432 | P41: =H41-SUM(I41:L41) -> 7.16
A42: 37 | B42: 中山市帅太电器科技有限公司 | C42: 帅太电器数字化改造项目 | D42: 2511151000687 | E42: 二级 | F42: 国家/省 | G42: =VLOOKUP(D42,[1]Sheet1!$C:$P,14,FALSE) -> 53.55 | H42: 26.77 | M42: 21.416 | N42: 5.354 | P42: =H42-SUM(I42:L42) -> 26.77
A43: 38 | B43: 中山嘉钦科技有限公司 | C43: 嘉钦智能制造项目 | D43: 2604169910859 | E43: 二级 | F43: 国家/省 | G43: =VLOOKUP(D43,[1]Sheet1!$C:$P,14,FALSE) -> 65.3 | H43: 30 | M43: 24 | N43: 6 | P43: =H43-SUM(I43:L43) -> 30
A44: 39 | B44: 广东景呈智能装备集团有限公司 | C44: 景呈智能装备集团数字化改造项目 | D44: 2511109910669 | E44: 二级 | F44: 国家/省 | G44: =VLOOKUP(D44,[1]Sheet1!$C:$P,14,FALSE) -> 19.49 | H44: 9.74 | M44: 7.792 | N44: 1.948 | P44: =H44-SUM(I44:L44) -> 9.74
A45: 40 | B45: 中山市三诚有机硅有限公司 | C45: 三诚数字化改造项目 | D45: 2607149901166 | E45: 二级 | F45: 国家/省 | G45: =VLOOKUP(D45,[1]Sheet1!$C:$P,14,FALSE) -> 1.16 | H45: 0.58 | M45: 0.464 | N45: 0.116 | P45: =H45-SUM(I45:L45) -> 0.58
A46: 41 | B46: 中山市三诚有机硅有限公司 | C46: MES系统/线上营销的改造 | D46: 2512149900747 | E46: 二级 | F46: 省 | G46: =VLOOKUP(D46,[1]Sheet1!$C:$P,14,FALSE) -> 20.15 | H46: 10.07 | N46: 6.042 | O46: 4.028 | P46: =H46-SUM(I46:L46) -> 10.07
A47: 42 | B47: 中山市卓杰奥电器有限公司 | C47: 卓杰奥数字化项目 | D47: 2511151010705 | E47: 二级 | F47: 国家/省 | G47: =VLOOKUP(D47,[1]Sheet1!$C:$P,14,FALSE) -> 22.8 | H47: 11.4 | M47: 9.12 | N47: 2.28 | P47: =H47-SUM(I47:L47) -> 11.4
A48: 43 | B48: 广东泰坦智能电器有限公司 | C48: 泰坦智能电器数字化项目（小满软件） | D48: 2608181011254 | E48: 二级 | F48: 国家/省 | G48: =VLOOKUP(D48,[1]Sheet1!$C:$P,14,FALSE) -> 5.05 | H48: 2.52 | M48: 2.016 | N48: 0.504 | P48: =H48-SUM(I48:L48) -> 2.52
A49: 44 | B49: 东青林模具塑胶（中山）有限公司 | C49: 东青林模具塑胶（中山）有限公司柔性制造数字化升级改造项目 | D49: 2607021111145 | E49: 二级 | F49: 国家/省 | G49: =VLOOKUP(D49,[1]Sheet1!$C:$P,14,FALSE) -> 53.98 | H49: 26.99 | M49: 21.592 | N49: 5.398 | P49: =H49-SUM(I49:L49) -> 26.99
A50: 45 | B50: 中山洲明智能制造有限公司 | C50: 洲明渠道数字化系统数字化转型服务项目 | D50: 2601012010797 | E50: 二级 | F50: 国家/省 | G50: =VLOOKUP(D50,[1]Sheet1!$C:$P,14,FALSE) -> 16.5 | H50: 8.25 | M50: 6.6 | N50: 1.65 | P50: =H50-SUM(I50:L50) -> 8.25
A51: 46 | B51: 中山市海合金属表面处理有限公司 | C51: 中山市海合金属表面处理有限公司数字化改造项目 | D51: 2511182110691 | E51: 二级 | F51: 国家/省 | G51: =VLOOKUP(D51,[1]Sheet1!$C:$P,14,FALSE) -> 51.24 | H51: 25.62 | M51: 20.496 | N51: 5.124 | P51: =H51-SUM(I51:L51) -> 25.62
A52: 47 | B52: 中山市时泰日用制品有限公司 | C52: ERP系统应用项目 | D52: 2512209910723 | E52: 二级 | F52: 国家/省 | G52: =VLOOKUP(D52,[1]Sheet1!$C:$P,14,FALSE) -> 34.99 | H52: 17.49 | M52: 13.992 | N52: 3.498 | P52: =H52-SUM(I52:L52) -> 17.49
A53: 48 | B53: 中山市康丽洁卫浴科技有限公司 | C53: 中山市康丽洁卫浴科技有限公司数字化转型服务项目 | D53: 2604119910856 | E53: 二级 | F53: 国家/省 | G53: =VLOOKUP(D53,[1]Sheet1!$C:$P,14,FALSE) -> 30.51 | H53: 15.25 | M53: 12.2 | N53: 3.05 | P53: =H53-SUM(I53:L53) -> 15.25
A54: 49 | B54: 中山市皇创智能家居科技有限公司 | C54: 皇创数字化转型项目 | D54: 2508132000595 | E54: 二级 | F54: 省 | G54: =VLOOKUP(D54,[1]Sheet1!$C:$P,14,FALSE) -> 22.47 | H54: 11.23 | N54: 6.738 | O54: 4.492 | P54: =H54-SUM(I54:L54) -> 11.23
A55: 50 | B55: 中山市昊天电器有限公司 | C55: 昊天电器智能物流仓储管理数字化转型服务项目 | D55: 2509162010624 | E55: 二级 | F55: 国家/省 | G55: =VLOOKUP(D55,[1]Sheet1!$C:$P,14,FALSE) -> 59.43 | H55: 29.71 | M55: 23.768 | N55: 5.942 | P55: =H55-SUM(I55:L55) -> 29.71
A56: 51 | B56: 中山市惠人电器有限公司 | C56: 惠人电器营销数字化改造项目 | D56: 2607101011055 | E56: 二级 | F56: 省 | G56: =VLOOKUP(D56,[1]Sheet1!$C:$P,14,FALSE) -> 17.06 | H56: 8.53 | N56: 5.118 | O56: 3.412 | P56: =H56-SUM(I56:L56) -> 8.53
A57: 52 | B57: 广东天之业智能装备有限公司 | C57: 天之业数字化改造项目 | D57: 2603011110849 | E57: 二级 | F57: 国家/省 | G57: =VLOOKUP(D57,[1]Sheet1!$C:$P,14,FALSE) -> 7.54 | H57: 3.77 | M57: 3.016 | N57: 0.754 | P57: =H57-SUM(I57:L57) -> 3.77
A58: 53 | B58: 中山强乐电子有限公司 | C58: 中山强乐电子有限公司数字化管理系统 | D58: 2503181110324 | E58: 二级 | F58: 省 | G58: =VLOOKUP(D58,[1]Sheet1!$C:$P,14,FALSE) -> 55.75 | H58: 27.87 | N58: 16.722 | O58: 11.148 | P58: =H58-SUM(I58:L58) -> 27.87
A59: 54 | B59: 中山市易度智能科技有限公司 | C59: 易度智能数字化改造项目 | D59: 2510161010656 | E59: 二级 | F59: 国家/省 | G59: =VLOOKUP(D59,[1]Sheet1!$C:$P,14,FALSE) -> 27.92 | H59: 13.96 | M59: 11.168 | N59: 2.792 | P59: =H59-SUM(I59:L59) -> 13.96
A60: 55 | B60: 中山上筑智造科技有限公司 | C60: 上筑智造科技公司外贸营销数字化项目 | D60: 2606052000963 | E60: 二级 | F60: 国家/省 | G60: =VLOOKUP(D60,[1]Sheet1!$C:$P,14,FALSE) -> 0.57 | H60: 0.28 | M60: 0.224 | N60: 0.056 | P60: =H60-SUM(I60:L60) -> 0.28
A61: 56 | B61: 中山市澳多电子科技有限公司 | C61: 中山市澳多电子科技有限公司数字化改造项目 | D61: 2512051110739 | E61: 三级 | F61: 省 | G61: =VLOOKUP(D61,[1]Sheet1!$C:$P,14,FALSE) -> 126.72 | H61: 63.36 | N61: 38.016 | O61: 25.344 | P61: =H61-SUM(I61:L61) -> 63.36
A62: 57 | B62: 中山市大牌镜业有限公司 | C62: 大牌镜业数字化改造项目 | D62: 2603059910853 | E62: 二级 | F62: 国家/省 | G62: =VLOOKUP(D62,[1]Sheet1!$C:$P,14,FALSE) -> 38.86 | H62: 19.43 | M62: 15.544 | N62: 3.886 | P62: =H62-SUM(I62:L62) -> 19.43
A63: 58 | B63: 中山市海迪威电器有限公司 | C63: 中山市海迪威电器有限公司数字化升级建设项目 | D63: 2512101010746 | E63: 二级 | F63: 国家/省 | G63: =VLOOKUP(D63,[1]Sheet1!$C:$P,14,FALSE) -> 59.69 | H63: 29.84 | M63: 23.872 | N63: 5.968 | P63: =H63-SUM(I63:L63) -> 29.84
A64: 59 | B64: 中山小袋鼠儿童用品有限公司 | C64: 中山小袋鼠儿童ERP数字化转型服务项目 | D64: 2509169910615 | E64: 二级 | F64: 国家/省 | G64: =VLOOKUP(D64,[1]Sheet1!$C:$P,14,FALSE) -> 49.09 | H64: 24.54 | M64: 19.632 | N64: 4.908 | P64: =H64-SUM(I64:L64) -> 24.54
A65: 60 | B65: 中山市领克电气有限公司 | C65: 领克电气数字化转型项目 | D65: 2509162100611 | E65: 二级 | F65: 国家/省 | G65: =VLOOKUP(D65,[1]Sheet1!$C:$P,14,FALSE) -> 1.02 | H65: 0.51 | M65: 0.408 | N65: 0.102 | P65: =H65-SUM(I65:L65) -> 0.51

Sheet Sheet2
A1: 项目试点类型 | B1: 项目数量 | C1: 合计奖补投入金额 （万元，不含税） | D1: 应补总金额 （万元） | E1: 已获得的预奖补金额 （万元） | G1: 监管账户已补金额 （万元） | I1: 本次应奖补金额 （万元） | L1: 本次应退金额 （万元）
A2: 资金类型 | E2: 中央 | F2: 省级 | G2: 中央 | H2: 省级 | I2: 中央 | J2: 省级 | K2: 市级 | L2: 省级
A3: 国家/省 | B3: =COUNTIF(Sheet1!F:F,A3) -> 52 | C3: =SUMIF(Sheet1!$F:$F,$A$3,Sheet1!G:G) -> 1688.16 | D3: =SUMIF(Sheet1!$F:$F,$A$3,Sheet1!H:H) -> 833.85 | E3: =SUMIF(Sheet1!$F:$F,$A$3,Sheet1!I:I) -> 50.368 | F3: =SUMIF(Sheet1!$F:$F,$A$3,Sheet1!J:J) -> 36.312 | G3: =SUMIF(Sheet1!$F:$F,$A$3,Sheet1!K:K) -> 0 | H3: =SUMIF(Sheet1!$F:$F,$A$3,Sheet1!L:L) -> 67.54 | I3: =SUMIFS(Sheet1!M:M,Sheet1!F:F,A3,Sheet1!M:M,">0") -> 616.712 | J3: =SUMIFS(Sheet1!N:N,Sheet1!F:F,A3,Sheet1!N:N,">0") -> 130.304 | K3: =SUMIF(Sheet1!$F:$F,$A$3,Sheet1!O:O) -> 0 | L3: =SUMIFS(Sheet1!M:M,Sheet1!F:F,A3,Sheet1!M:M,"<0")+SUMIFS(Sheet1!N:N,Sheet1!F:F,A3,Sheet1!N:N,"<0") -> -67.386
A4: 省 | B4: =COUNTIF(Sheet1!F:F,A4) -> 8 | C4: =SUMIF(Sheet1!$F:$F,$A$4,Sheet1!G:G) -> 303.27 | D4: =SUMIF(Sheet1!$F:$F,$A$4,Sheet1!H:H) -> 151.61 | E4: =SUMIF(Sheet1!$F:$F,$A$4,Sheet1!I:I) -> 0 | F4: =SUMIF(Sheet1!$F:$F,$A$4,Sheet1!J:J) -> 0 | G4: =SUMIF(Sheet1!$F:$F,$A$4,Sheet1!K:K) -> 0 | H4: =SUMIF(Sheet1!$F:$F,$A$4,Sheet1!L:L) -> 0 | I4: =SUMIFS(Sheet1!M:M,Sheet1!F:F,A4,Sheet1!M:M,">0") -> 0 | J4: =SUMIFS(Sheet1!N:N,Sheet1!F:F,A4,Sheet1!N:N,">0") -> 90.966 | K4: =SUMIF(Sheet1!$F:$F,$A$4,Sheet1!O:O) -> 60.644 | L4: =SUMIFS(Sheet1!M:M,Sheet1!F:F,A4,Sheet1!M:M,"<0")+SUMIFS(Sheet1!N:N,Sheet1!F:F,A4,Sheet1!N:N,"<0") -> 0
A5: 合计 | B5: =SUM(B3:B4) -> 60 | C5: =SUM(C3:C4) -> 1991.43 | D5: =SUM(D3:D4) -> 985.46 | E5: =SUM(E3:E4) -> 50.368 | F5: =SUM(F3:F4) -> 36.312 | G5: =SUM(G3:G4) -> 0 | H5: =SUM(H3:H4) -> 67.54 | I5: =SUM(I3:I4) -> 616.712 | ... L5: =SUM(L3:L4) -> -67.386
